BEGIN:VCALENDAR
VERSION:2.0
PRODID:-//Stupa für den Frieden - ECPv6.15.20//NONSGML v1.0//EN
CALSCALE:GREGORIAN
METHOD:PUBLISH
X-WR-CALNAME:Stupa für den Frieden
X-ORIGINAL-URL:https://friedensstupa.at
X-WR-CALDESC:Veranstaltungen für Stupa für den Frieden
REFRESH-INTERVAL;VALUE=DURATION:PT1H
X-Robots-Tag:noindex
X-PUBLISHED-TTL:PT1H
BEGIN:VTIMEZONE
TZID:Europe/Vienna
BEGIN:DAYLIGHT
TZOFFSETFROM:+0100
TZOFFSETTO:+0200
TZNAME:CEST
DTSTART:20240331T010000
END:DAYLIGHT
BEGIN:STANDARD
TZOFFSETFROM:+0200
TZOFFSETTO:+0100
TZNAME:CET
DTSTART:20241027T010000
END:STANDARD
BEGIN:DAYLIGHT
TZOFFSETFROM:+0100
TZOFFSETTO:+0200
TZNAME:CEST
DTSTART:20250330T010000
END:DAYLIGHT
BEGIN:STANDARD
TZOFFSETFROM:+0200
TZOFFSETTO:+0100
TZNAME:CET
DTSTART:20251026T010000
END:STANDARD
BEGIN:DAYLIGHT
TZOFFSETFROM:+0100
TZOFFSETTO:+0200
TZNAME:CEST
DTSTART:20260329T010000
END:DAYLIGHT
BEGIN:STANDARD
TZOFFSETFROM:+0200
TZOFFSETTO:+0100
TZNAME:CET
DTSTART:20261025T010000
END:STANDARD
END:VTIMEZONE
BEGIN:VEVENT
DTSTART;TZID=Europe/Vienna:20250622T150000
DTEND;TZID=Europe/Vienna:20250622T170000
DTSTAMP:20260420T102335
CREATED:20250420T124039Z
LAST-MODIFIED:20250622T111909Z
UID:10000020-1750604400-1750611600@friedensstupa.at
SUMMARY:Freude mit "Archaischem Klangzauber"
DESCRIPTION:Am 22.06.2025 und am 21.09.2025\, jeweils ab 15:00 Uhr\, finden im Friedensstupa in Grafenwörth aussergewöhnliche Konzerte statt. \nDie Musiker Daniel Yononindo\, Horst Nurschinger und Gerhard Hajny veranstalten einen „archaischen Klangzauber“ mit verschiedenen ethnischen Flöten\, Didgeridoo\, Saiteninstrumenten\, Handpan\, Klangschalen und perkussiven Instrumenten.\nBeim Konzert am 22.06. ist Gudula Gomez an der „Cosmic Violin“ und Sarah Maria mit ihrer wunderbaren Stimme dabei.\nDer meditativ-schamanische Charakter dieser Musik lebt in der Akustik des Stupa besonders auf und verspricht ein großartiges Erlebnis. \nOhne Übertreibung können die Musiker als Magier der Töne und Zauberer der Klangwelten bezeichnet werden.\nLassen Sie sich von diesem Konzert verzaubern ! \nBilder vom Konzert 2024 im Friedensstupa: \n\n			\n				\n			\n				\n				Daniel Yononindo\n				\n			\n				\n			\n				\n				archaischer Klangzauber\n				\n			\n				\n			\n				\n				archaischer Klangzauber\n				\n			\n				\n			\n				\n				archaischer Klangzauber\n				\n		\n\n  \n<klick> zum Infovideo des Konzertes \nHomepages der Musiker: \nHorst Nurschinger\nGerhard Hajny\nDaniel Yononindo\nGudula Gomez
URL:https://friedensstupa.at/veranstaltung/freude-mit-archaischem-klangzauber/
LOCATION:Stupa\, Wallner-Vetter-Gasse\, Grafenwörth\, Niederösterreich\, 3483\, Austria
CATEGORIES:Musik
ATTACH;FMTTYPE=image/jpeg:https://friedensstupa.at/wp-content/uploads/2024/09/DSC09286-scaled.jpg
END:VEVENT
BEGIN:VEVENT
DTSTART;TZID=Europe/Vienna:20250517T190000
DTEND;TZID=Europe/Vienna:20250517T213000
DTSTAMP:20260420T102335
CREATED:20250420T123607Z
LAST-MODIFIED:20250420T140352Z
UID:10000019-1747508400-1747517400@friedensstupa.at
SUMMARY:Traismauer Gospelchor
DESCRIPTION:
URL:https://friedensstupa.at/veranstaltung/traismauer-gospelchor/
LOCATION:Stupa\, Wallner-Vetter-Gasse\, Grafenwörth\, Niederösterreich\, 3483\, Austria
CATEGORIES:Musik
ATTACH;FMTTYPE=image/jpeg:https://friedensstupa.at/wp-content/uploads/2025/04/Friedenskonzerte_2025.jpg
END:VEVENT
END:VCALENDAR